Workbook
Name Print_Area: 'Kalendář- duben'!$A$1:$G$39
Name Print_Area: 'Kalendář- květen'!$A$1:$H$42
Name Print_Area: Učitelé!$A$2:$Y$20

Sheet Kalendář- duben
A1: SPŠ a VOŠ Písek, Karla Čapka 402
A2: Maturitní zkoušky ve školním roce 2026/2027 - jarní zkušební období
A4: Třída: | C4: A4.E | D4: B4.I | E4: C4.E | F4: D4.P | G4: Předseda matur. kom. na jiné škole
A5: žáci k MZ celkem/ obhajoba MP
A6: čt | B6: 45383
A7: pá | B7: 45384
A8: so | B8: 45385
A9: ne | B9: 45386
A10: po | B10: 45387
A11: út | B11: 45388
A12: st | B12: 45389
A13: čt | B13: 45390
A14: pá | B14: 45391
A15: so | B15: 45392
A16: ne | B16: 45393
A17: po | B17: 45394
... A31: po | B31: 45408
A32: út | B32: 45409 | C32: profilová část maturitní zkoušky - písemná práce ANJ - od 14:10
A33: st | B33: 45410 | C33: profilová část maturitní zkoušky - písemná práce ČJL - od 14:10
A34: čt | B34: 45411
A35: pá | B35: 45412
A36: Předseda maturitní komise
A37: Místopředseda maturitní komise | D37: SP | F37: SK
A38: Třídní učitel | C38: ZA | D38: PE | E38: MP | F38: TR
A39: změna vyhrazena

Sheet Kalendář- květen
A1: ='Kalendář- duben'!A1:G1 -> SPŠ a VOŠ Písek, Karla Čapka 402
A2: ='Kalendář- duben'!A2:G2 -> Maturitní zkoušky ve školním roce 2026/2027 - jarní zkušební období
A4: Třída: | C4: A4.E | D4: B4.I | E4: C4.E | F4: D4.P | G4: Předseda matur. kom. na jiné škole
A5: ='Kalendář- duben'!A5:B5 -> žáci k MZ celkem/ obhajoba MP | C5: ='Kalendář- duben'!C5 -> 0 | D5: ='Kalendář- duben'!D5 -> 0 | E5: ='Kalendář- duben'!E5 -> 0 | F5: ='Kalendář- duben'!F5 -> 0
A7: so | B7: 45413 | C7: Státní svátek
A8: ne | B8: 45414
A9: po | B9: 45415
A10: út | B10: 45416
A11: st | B11: 45417
A12: čt | B12: 45418
A13: pá | B13: 45419 | C13: volno před MZ
A14: so | B14: 45420 | C14: Státní svátek
A15: ne | B15: 45421
A16: po | B16: 45422 | C16: Praktická MZ | D16: Volno | E16: Volno
A17: út | B17: 45423 | D17: Volno | E17: Volno | F17: Praktická MZ | H17: X
A18: st | B18: 45424 | C18: Volno | D18: Praktická MZ | E18: Praktická MZ | F18: Volno | H18: profilové maturitní zkoušky
A19: čt | B19: 45425 | C19: Volno | D19: Volno | E19: Volno | F19: Volno
A20: pá | B20: 45426 | C20: volno před MZ
A21: so | B21: 45427
A22: ne | B22: 45428
A23: po | B23: 45429 | E23: Ústní MZ | F23: Ústní MZ
A24: út | B24: 45430 | E24: Ústní MZ | F24: Ústní MZ | G24: CB:
A25: st | B25: 45431 | E25: Ústní MZ | F25: Ústní MZ
A26: čt | B26: 45432 | E26: Ústní MZ | F26: Ústní MZ
A27: pá | B27: 45433 | E27: Ústní MZ | F27: Ústní MZ
A28: so | B28: 45434
A29: ne | B29: 45435
A30: po | B30: 45436 | C30: Ústní MZ | D30: Ústní MZ
A31: út | B31: 45437 | C31: Ústní MZ | D31: Ústní MZ | G31: Plzeň: ČB:
A32: st | B32: 45438 | C32: Ústní MZ | D32: Ústní MZ
A33: čt | B33: 45439 | C33: Ústní MZ | D33: Ústní MZ
A34: pá | B34: 45440 | C34: Ústní MZ | D34: Ústní MZ
A35: so | B35: 45441
A36: ne | B36: 45442
A37: po | B37: 45443
A39: Předseda maturitní komise | C39: ='Kalendář- duben'!C36 -> 0 | D39: ='Kalendář- duben'!D36 -> 0 | E39: ='Kalendář- duben'!E36 -> 0 | F39: ='Kalendář- duben'!F36 -> 0
A40: Místopředseda maturitní komise | C40: ='Kalendář- duben'!C37 -> 0 | D40: ='Kalendář- duben'!D37 -> SP | E40: ='Kalendář- duben'!E37 -> 0 | F40: ='Kalendář- duben'!F37 -> SK
A41: Třídní učitel | C41: ='Kalendář- duben'!C38 -> ZA | D41: ='Kalendář- duben'!D38 -> PE | E41: ='Kalendář- duben'!E38 -> MP | F41: ='Kalendář- duben'!F38 -> TR
A42: změna vyhrazena

Sheet Učitelé
D2: Rozpis zkoušejících a přísedících pro ústní maturitní zkoušky v roce 2026
A4: Třída | C4: CJL | E4: ANJ | G4: NEJ | I4: ELT | K4: EZ | M4: specializace EŘS | O4: specializace KES | Q4: specializace počítačové projektování | S4: VTPV využití technického a programového vybavení | U4: KBIS Kybernetická bezpečnost informačních systémů | W4: Třídní učitel | X4: Místop. MK | Y4: Předseda MK z jiné školy
C5: Zkouš. | D5: Přís. | E5: Zkouš. | F5: Přís. | G5: Zkouš. | H5: Přís. | I5: Zkouš. | J5: Přís. | K5: Zkouš. | L5: Přís. | M5: Zkouš. | N5: Přís. | O5: Zkouš. | P5: Přís. | Q5: Zkouš. | R5: Přís. | S5: Zkouš. | T5: Přís. | U5: Zkouš. | V5: Přís.
A7: A4.E | W7: ='Kalendář- duben'!C38 -> ZA | X7: ='Kalendář- duben'!C37 -> 0 | Y7: ='Kalendář- duben'!C36 -> 0
A10: B4.I | W10: ='Kalendář- duben'!D38 -> PE | X10: ='Kalendář- duben'!D37 -> SP | Y10: ='Kalendář- duben'!D36 -> 0
A13: C4.E | W13: ='Kalendář- duben'!E38 -> MP | X13: ='Kalendář- duben'!E37 -> 0 | Y13: ='Kalendář- duben'!E36 -> 0
A16: D4.P | W16: ='Kalendář- duben'!F38 -> TR | X16: ='Kalendář- duben'!F37 -> SK | Y16: ='Kalendář- duben'!F36 -> 0
C20: A4.E | F20: B4.I | I20: C4.E | N20: D4.P
A21: PUP:
A25: MP
A26: PMZ
A27: témata
